BEGIN:VCALENDAR
VERSION:2.0
PRODID:-//Thunderbird District South Austin - ECPv6.15.20//NONSGML v1.0//EN
CALSCALE:GREGORIAN
METHOD:PUBLISH
X-WR-CALNAME:Thunderbird District South Austin
X-ORIGINAL-URL:https://t-birddistrict.org
X-WR-CALDESC:Events for Thunderbird District South Austin
REFRESH-INTERVAL;VALUE=DURATION:PT1H
X-Robots-Tag:noindex
X-PUBLISHED-TTL:PT1H
BEGIN:VTIMEZONE
TZID:America/Chicago
BEGIN:DAYLIGHT
TZOFFSETFROM:-0600
TZOFFSETTO:-0500
TZNAME:CDT
DTSTART:20240310T080000
END:DAYLIGHT
BEGIN:STANDARD
TZOFFSETFROM:-0500
TZOFFSETTO:-0600
TZNAME:CST
DTSTART:20241103T070000
END:STANDARD
BEGIN:DAYLIGHT
TZOFFSETFROM:-0600
TZOFFSETTO:-0500
TZNAME:CDT
DTSTART:20250309T080000
END:DAYLIGHT
BEGIN:STANDARD
TZOFFSETFROM:-0500
TZOFFSETTO:-0600
TZNAME:CST
DTSTART:20251102T070000
END:STANDARD
BEGIN:DAYLIGHT
TZOFFSETFROM:-0600
TZOFFSETTO:-0500
TZNAME:CDT
DTSTART:20260308T080000
END:DAYLIGHT
BEGIN:STANDARD
TZOFFSETFROM:-0500
TZOFFSETTO:-0600
TZNAME:CST
DTSTART:20261101T070000
END:STANDARD
END:VTIMEZONE
BEGIN:VEVENT
DTSTART;TZID=America/Chicago:20251025T090000
DTEND;TZID=America/Chicago:20251025T110000
DTSTAMP:20260420T062754
CREATED:20250506T180909Z
LAST-MODIFIED:20250909T212807Z
UID:6222-1761382800-1761390000@t-birddistrict.org
SUMMARY:Scouting101
DESCRIPTION:Thunderbird District is pleased to offer Scouting101 on October 25\, 2025! This is a district-wide event for Troops to showcase themselves to prospective Scouts\, and an event for AOL and new-to-Scouting people to learn about our fantastic troops in South Austin.\n \nFor Packs:\n\n\nReserve 25 October for Scouting101. Please avoid putting any pack events\, pack campouts\, or AOL patrol campouts on this weekend.\nSend a leadership representative to our June planning meeting at the Roundtable Meeting: Thursday\, June 5th at 7pm. Shape this event to be what your AOL wants to attend. \nPlan a AOL patrol visit to a troop as part of your AOL Bobcat adventure. \n\nFor Troops:\n\n\n\nReserve 25 October for Scouting101. Avoid placing any troop events\, campouts\, or activities on this weekend.\nSend one or more leadership representatives to the June planning meeting at the Roundtable Meeting: Thursday\, June 5th at 7pm.  Hopes? Dreams? Expectations? This is your opportunity to make Scouting101 what you want it to be.\n\n\nPlan a Troop Campout in November of December to include AOL patrols or prospective AOL Scouts\, and include those prospective Scouts in your campout planning meeting prior to the campout. \nPlan a Troop Meeting to include AOL Scouts in both September and either in November or December. The first adventure an AOL Scout ought to earn at the start of the year is the Bobcat Adventure.
URL:https://t-birddistrict.org/event/scouting101-2025/
LOCATION:Bethany Lutheran Church\, 3701 W Slaughter Lane\, Austin\, TX\, 78749\, United States
CATEGORIES:District Event,Troop Recruitment
ATTACH;FMTTYPE=image/jpeg:https://t-birddistrict.org/wp-content/uploads/2025/01/193A8346-photo-SBBCJPG-scaled-e1737080659340.jpg
END:VEVENT
END:VCALENDAR